BEGIN:VCALENDAR
VERSION:2.0
PRODID:-//Oakway Academy - ECPv6.15.20//NONSGML v1.0//EN
CALSCALE:GREGORIAN
METHOD:PUBLISH
X-ORIGINAL-URL:https://oakwayacademy.org.uk
X-WR-CALDESC:Events for Oakway Academy
REFRESH-INTERVAL;VALUE=DURATION:PT1H
X-Robots-Tag:noindex
X-PUBLISHED-TTL:PT1H
BEGIN:VTIMEZONE
TZID:UTC
BEGIN:STANDARD
TZOFFSETFROM:+0000
TZOFFSETTO:+0000
TZNAME:UTC
DTSTART:20250101T000000
END:STANDARD
END:VTIMEZONE
BEGIN:VEVENT
DTSTART;TZID=UTC:20260423T090000
DTEND;TZID=UTC:20260423T153000
DTSTAMP:20260420T123054
CREATED:20260219T102119Z
LAST-MODIFIED:20260219T102119Z
UID:19919-1776934800-1776958200@oakwayacademy.org.uk
SUMMARY:Y3 & Birch trip to Chester House
DESCRIPTION:
URL:https://oakwayacademy.org.uk/event/y3-birch-trip-to-chester-house/
END:VEVENT
BEGIN:VEVENT
DTSTART;VALUE=DATE:20260511
DTEND;VALUE=DATE:20260515
DTSTAMP:20260420T123054
CREATED:20260219T102339Z
LAST-MODIFIED:20260219T102339Z
UID:19921-1778457600-1778803199@oakwayacademy.org.uk
SUMMARY:Y6 SATs week
DESCRIPTION:
URL:https://oakwayacademy.org.uk/event/y6-sats-week/
END:VEVENT
BEGIN:VEVENT
DTSTART;VALUE=DATE:20260515
DTEND;VALUE=DATE:20260516
DTSTAMP:20260420T123054
CREATED:20250724T122209Z
LAST-MODIFIED:20250724T122344Z
UID:19841-1778803200-1778889599@oakwayacademy.org.uk
SUMMARY:School Photographer - Class photos
DESCRIPTION:
URL:https://oakwayacademy.org.uk/event/school-photographer-class-photos-2/
END:VEVENT
BEGIN:VEVENT
DTSTART;TZID=UTC:20260521T140000
DTEND;TZID=UTC:20260521T210000
DTSTAMP:20260420T123054
CREATED:20260219T102230Z
LAST-MODIFIED:20260219T102230Z
UID:19920-1779372000-1779397200@oakwayacademy.org.uk
SUMMARY:The Big Sing - Choir at the Derngate
DESCRIPTION:
URL:https://oakwayacademy.org.uk/event/the-big-sing-choir-at-the-derngate/
END:VEVENT
BEGIN:VEVENT
DTSTART;TZID=UTC:20260522T153000
DTEND;TZID=UTC:20260522T153000
DTSTAMP:20260420T123054
CREATED:20250724T122423Z
LAST-MODIFIED:20250724T122423Z
UID:19842-1779463800-1779463800@oakwayacademy.org.uk
SUMMARY:End of Term 5
DESCRIPTION:
URL:https://oakwayacademy.org.uk/event/end-of-term-5-3/
END:VEVENT
BEGIN:VEVENT
DTSTART;VALUE=DATE:20260601
DTEND;VALUE=DATE:20260602
DTSTAMP:20260420T123054
CREATED:20250724T122556Z
LAST-MODIFIED:20250724T122556Z
UID:19843-1780272000-1780358399@oakwayacademy.org.uk
SUMMARY:Start of Term 6
DESCRIPTION:
URL:https://oakwayacademy.org.uk/event/start-of-term-6-4/
END:VEVENT
BEGIN:VEVENT
DTSTART;TZID=UTC:20260629T090000
DTEND;TZID=UTC:20260630T153000
DTSTAMP:20260420T123054
CREATED:20260219T102451Z
LAST-MODIFIED:20260219T102451Z
UID:19922-1782723600-1782833400@oakwayacademy.org.uk
SUMMARY:Y5 Residential - Group 1
DESCRIPTION:
URL:https://oakwayacademy.org.uk/event/y5-residential-group-1/
END:VEVENT
BEGIN:VEVENT
DTSTART;TZID=UTC:20260630T090000
DTEND;TZID=UTC:20260701T153000
DTSTAMP:20260420T123054
CREATED:20260219T102531Z
LAST-MODIFIED:20260219T102531Z
UID:19923-1782810000-1782919800@oakwayacademy.org.uk
SUMMARY:Y5 Residential - Group 2
DESCRIPTION:
URL:https://oakwayacademy.org.uk/event/y5-residential-group-2/
END:VEVENT
BEGIN:VEVENT
DTSTART;VALUE=DATE:20260709
DTEND;VALUE=DATE:20260710
DTSTAMP:20260420T123054
CREATED:20260219T102640Z
LAST-MODIFIED:20260219T102640Z
UID:19925-1783555200-1783641599@oakwayacademy.org.uk
SUMMARY:Millionaires Readers trip
DESCRIPTION:
URL:https://oakwayacademy.org.uk/event/millionaires-readers-trip/
END:VEVENT
BEGIN:VEVENT
DTSTART;VALUE=DATE:20260710
DTEND;VALUE=DATE:20260711
DTSTAMP:20260420T123054
CREATED:20260219T102605Z
LAST-MODIFIED:20260219T102605Z
UID:19924-1783641600-1783727999@oakwayacademy.org.uk
SUMMARY:Reports sent home to parents
DESCRIPTION:
URL:https://oakwayacademy.org.uk/event/reports-sent-home-to-parents-2/
END:VEVENT
BEGIN:VEVENT
DTSTART;TZID=UTC:20260713T090000
DTEND;TZID=UTC:20260713T110000
DTSTAMP:20260420T123054
CREATED:20260219T102753Z
LAST-MODIFIED:20260219T102753Z
UID:19926-1783933200-1783940400@oakwayacademy.org.uk
SUMMARY:Sports Day - Nursery & EYFS
DESCRIPTION:
URL:https://oakwayacademy.org.uk/event/sports-day-nursery-eyfs/
END:VEVENT
BEGIN:VEVENT
DTSTART;TZID=UTC:20260714T090000
DTEND;TZID=UTC:20260714T110000
DTSTAMP:20260420T123054
CREATED:20260219T102831Z
LAST-MODIFIED:20260219T102831Z
UID:19927-1784019600-1784026800@oakwayacademy.org.uk
SUMMARY:Sports Day - Years 1 & 2
DESCRIPTION:
URL:https://oakwayacademy.org.uk/event/sports-day-years-1-2-2/
END:VEVENT
BEGIN:VEVENT
DTSTART;TZID=UTC:20260715T090000
DTEND;TZID=UTC:20260715T110000
DTSTAMP:20260420T123054
CREATED:20260219T103013Z
LAST-MODIFIED:20260219T103013Z
UID:19928-1784106000-1784113200@oakwayacademy.org.uk
SUMMARY:Sports Day - Years 3 & 4
DESCRIPTION:
URL:https://oakwayacademy.org.uk/event/sports-day-years-3-4-2/
END:VEVENT
BEGIN:VEVENT
DTSTART;TZID=UTC:20260716T090000
DTEND;TZID=UTC:20260716T113000
DTSTAMP:20260420T123054
CREATED:20260219T103116Z
LAST-MODIFIED:20260219T103116Z
UID:19929-1784192400-1784201400@oakwayacademy.org.uk
SUMMARY:Sports Day - Years 5 & 6
DESCRIPTION:
URL:https://oakwayacademy.org.uk/event/sports-day-years-5-6-2/
END:VEVENT
BEGIN:VEVENT
DTSTART;TZID=UTC:20260717T153000
DTEND;TZID=UTC:20260717T153000
DTSTAMP:20260420T123054
CREATED:20250724T122819Z
LAST-MODIFIED:20250724T122819Z
UID:19844-1784302200-1784302200@oakwayacademy.org.uk
SUMMARY:Break up for summer holidays
DESCRIPTION:
URL:https://oakwayacademy.org.uk/event/break-up-for-summer-holidays-2/
END:VEVENT
END:VCALENDAR